BEGIN:VCALENDAR
VERSION:2.0
PRODID:-//ChamberMaster//Event Calendar 2.0//EN
METHOD:PUBLISH
X-PUBLISHED-TTL:P3D
REFRESH-INTERVAL:P3D
CALSCALE:GREGORIAN
BEGIN:VEVENT
DTSTART:20180331T160000Z
DTEND:20180331T190000Z
X-MICROSOFT-CDO-ALLDAYEVENT:FALSE
SUMMARY:Easter Egg Hunt
DESCRIPTION:Join us for food\, fun\, and Easter eggs!\n\n\n\nDate: Saturday\, March 31\, 2018\n\nTime: 12 p.m. to 3 p.m.\n\nPlace: Evangel Church lawn\,\n\n           201 Meadow Dr.\, Fuquay-Varina\n\n\n\n Hot dogs\, refreshments\, bounce houses\, egg coloring\, and of course an Easter egg hunt* (divided by age\n\n groups). Bring the whole family for a fun\, uplifting afternoon!\n\n*Egg hunt for ages 12 and under
X-ALT-DESC;FMTTYPE=text/html:Join us for food\, fun\, and Easter eggs!<br />\n<br />\nDate: Saturday\, March 31\, 2018<br />\nTime: 12 p.m. to 3 p.m.<br />\nPlace: Evangel Church lawn\,<br />\n&nbsp\;&nbsp\;&nbsp\;&nbsp\;&nbsp\;&nbsp\;&nbsp\;&nbsp\;&nbsp\;&nbsp\; 201 Meadow Dr.\, Fuquay-Varina<br />\n<br />\n&nbsp\;Hot dogs\, refreshments\, bounce houses\, egg coloring\, and of course an Easter egg hunt* (divided by age<br />\n&nbsp\;groups). Bring the whole family for a fun\, uplifting afternoon!<br />\n*Egg hunt for ages 12 and under
LOCATION:Evangel Church 201 Meadow Drive Fuquay-Varina
UID:e.485.20764
SEQUENCE:3
DTSTAMP:20260421T112143Z
URL:http://fuquay-varina.chambermaster.com/events/details/easter-egg-hunt-20764
END:VEVENT

END:VCALENDAR
